BEGIN:VCALENDAR
VERSION:2.0
PRODID:SchoolNow
CALSCALE:GREGORIAN
BEGIN:VEVENT
UID:11ece5fe-c574-11f0-8d7d-0a58a9feac02
DTSTAMP:20251119T230314Z
SUMMARY:CDD Board Meeting - Oct. 2025
LOCATION:The SpringHill Suites by Marriott Tampa Suncoast Parkway located a
 t 16615 Crosspointe Run\, Land 0' Lakes\, FL 34638
URL;VALUE=URI:https://www.hillcrestpreservecdd.com/calendar/8803756/cdd-boa
 rd-meeting-oct-2025
DTSTART:20251021T150000Z
DTEND:20251021T160000Z
ATTACH;FILENAME=2025-10-21 Hillcrest Preserve - Agenda.pdf;FMTTYPE=applicat
 ion/pdf:https://campussuite-storage.s3.amazonaws.com/prod/1559287/6ba028fa
 -b9ed-11f0-bada-02234586cfdd/3041780/c04130ac-c59b-11f0-82b3-0affdcfcd8a3/
 file/2025-10-21 Hillcrest Preserve - Agenda.pdf
END:VEVENT
END:VCALENDAR
