BEGIN:VCALENDAR
VERSION:2.0
PRODID:SchoolNow
CALSCALE:GREGORIAN
BEGIN:VEVENT
UID:3d72ccca-c574-11f0-8ce8-0a58a9feac02
DTSTAMP:20251119T230347Z
SUMMARY:CDD Board Meeting - Nov. 2025
LOCATION:The SpringHill Suites by Marriott Tampa Suncoast Parkway located a
 t 16615 Crosspointe Run\, Land 0' Lakes\, FL 34638
URL;VALUE=URI:https://www.hillcrestpreservecdd.com/calendar/8803758/cdd-boa
 rd-meeting-nov-2025
DTSTART:20251118T160000Z
DTEND:20251118T170000Z
ATTACH;FILENAME=2025-11-18 Hillcrest Preserve - Agenda.pdf;FMTTYPE=applicat
 ion/pdf:https://campussuite-storage.s3.amazonaws.com/prod/1559287/6ba028fa
 -b9ed-11f0-bada-02234586cfdd/3041779/6a72d68a-c59b-11f0-bc46-0e23e915d72f/
 file/2025-11-18 Hillcrest Preserve - Agenda.pdf
END:VEVENT
END:VCALENDAR
