BEGIN:VCALENDAR
VERSION:2.0
PRODID:SchoolNow
CALSCALE:GREGORIAN
BEGIN:VEVENT
UID:4912607c-c574-11f0-a2b5-0e87b21e145b
DTSTAMP:20260324T133339Z
SUMMARY:CDD Board Meeting - Dec. 2025
LOCATION:The SpringHill Suites by Marriott Tampa Suncoast Parkway located a
 t 16615 Crosspointe Run\, Land 0' Lakes\, FL 34638
URL;VALUE=URI:https://www.hillcrestpreservecdd.com/calendar/8803760/cdd-boa
 rd-meeting-dec-2025
DTSTART:20251216T160000Z
DTEND:20251216T170000Z
ATTACH;FILENAME=2025-12-16 Hillcrest Preserve CDD Agenda Package.pdf;FMTTYP
 E=application/pdf:https://campussuite-storage.s3.amazonaws.com/prod/155928
 7/6ba028fa-b9ed-11f0-bada-02234586cfdd/3082804/ead1623c-2785-11f1-8c91-0af
 fd3f4938f/file/2025-12-16 Hillcrest Preserve CDD Agenda Package.pdf
END:VEVENT
END:VCALENDAR
