BEGIN:VCALENDAR
VERSION:2.0
PRODID:SchoolNow
CALSCALE:GREGORIAN
BEGIN:VEVENT
UID:54e4d0f6-c574-11f0-b19a-0a58a9feac02
DTSTAMP:20260324T133403Z
SUMMARY:CDD Board Meeting - Jan. 2026
LOCATION:The SpringHill Suites by Marriott Tampa Suncoast Parkway located a
 t 16615 Crosspointe Run\, Land 0' Lakes\, FL 34638
URL;VALUE=URI:https://www.hillcrestpreservecdd.com/calendar/8803762/cdd-boa
 rd-meeting-jan-2026
DTSTART:20260120T160000Z
DTEND:20260120T170000Z
ATTACH;FILENAME=2026-01-20 Hillcrest Preserve CDD Agenda Package.pdf;FMTTYP
 E=application/pdf:https://campussuite-storage.s3.amazonaws.com/prod/155928
 7/6ba028fa-b9ed-11f0-bada-02234586cfdd/3082805/ead1a3be-2785-11f1-a39d-0af
 fd3f4938f/file/2026-01-20 Hillcrest Preserve CDD Agenda Package.pdf
END:VEVENT
END:VCALENDAR
