BEGIN:VCALENDAR
VERSION:2.0
PRODID:SchoolNow
CALSCALE:GREGORIAN
BEGIN:VEVENT
UID:5f60846c-c574-11f0-b69e-0affe72d166b
DTSTAMP:20260324T133421Z
SUMMARY:CDD Board Meeting - Feb. 2026
LOCATION:The SpringHill Suites by Marriott Tampa Suncoast Parkway located a
 t 16615 Crosspointe Run\, Land 0' Lakes\, FL 34638
URL;VALUE=URI:https://www.hillcrestpreservecdd.com/calendar/8803764/cdd-boa
 rd-meeting-feb-2026
DTSTART:20260217T160000Z
DTEND:20260217T170000Z
ATTACH;FILENAME=2026-02-17 Hillcrest Preserve CDD Agenda Package.pdf;FMTTYP
 E=application/pdf:https://campussuite-storage.s3.amazonaws.com/prod/155928
 7/6ba028fa-b9ed-11f0-bada-02234586cfdd/3082806/ead1a6b6-2785-11f1-bc97-0af
 fd3f4938f/file/2026-02-17 Hillcrest Preserve CDD Agenda Package.pdf
END:VEVENT
END:VCALENDAR
