BEGIN:VCALENDAR
VERSION:2.0
PRODID:SchoolNow
CALSCALE:GREGORIAN
BEGIN:VEVENT
UID:6bcca942-c574-11f0-aa15-02a24fa18703
DTSTAMP:20260324T133438Z
SUMMARY:CDD Board Meeting - Mar. 2026
LOCATION:The SpringHill Suites by Marriott Tampa Suncoast Parkway located a
 t 16615 Crosspointe Run\, Land 0' Lakes\, FL 34638
URL;VALUE=URI:https://www.hillcrestpreservecdd.com/calendar/8803766/cdd-boa
 rd-meeting-mar-2026
DTSTART:20260317T150000Z
DTEND:20260317T160000Z
ATTACH;FILENAME=2026-03-17 Hillcrest Preserve CDD Agenda Package.pdf;FMTTYP
 E=application/pdf:https://campussuite-storage.s3.amazonaws.com/prod/155928
 7/6ba028fa-b9ed-11f0-bada-02234586cfdd/3082807/ead1a800-2785-11f1-a734-0af
 fd3f4938f/file/2026-03-17 Hillcrest Preserve CDD Agenda Package.pdf
END:VEVENT
END:VCALENDAR
