BEGIN:VCALENDAR
VERSION:2.0
PRODID:SchoolNow
CALSCALE:GREGORIAN
BEGIN:VEVENT
UID:7625f3bc-c574-11f0-b62d-02343ccddbd9
DTSTAMP:20251119T182043Z
SUMMARY:CDD Board Meeting - Apr. 2026
LOCATION:The SpringHill Suites by Marriott Tampa Suncoast Parkway located a
 t 16615 Crosspointe Run\, Land 0' Lakes\, FL 34638
URL;VALUE=URI:https://www.hillcrestpreservecdd.com/calendar/8803769/cdd-boa
 rd-meeting-apr-2026
DTSTART:20260421T150000Z
DTEND:20260421T160000Z
END:VEVENT
END:VCALENDAR
