BEGIN:VCALENDAR
VERSION:2.0
PRODID:SchoolNow
CALSCALE:GREGORIAN
BEGIN:VEVENT
UID:81d775d2-c574-11f0-b762-0e23de79efab
DTSTAMP:20251119T182103Z
SUMMARY:CDD Board Meeting - May 2026
LOCATION:The SpringHill Suites by Marriott Tampa Suncoast Parkway located a
 t 16615 Crosspointe Run\, Land 0' Lakes\, FL 34638
URL;VALUE=URI:https://www.hillcrestpreservecdd.com/calendar/8803771/cdd-boa
 rd-meeting-may-2026
DTSTART:20260519T150000Z
DTEND:20260519T160000Z
END:VEVENT
END:VCALENDAR
