BEGIN:VCALENDAR
VERSION:2.0
PRODID:SchoolNow
CALSCALE:GREGORIAN
BEGIN:VEVENT
UID:8c78dd6e-c574-11f0-882e-02ea71babd91
DTSTAMP:20251119T182121Z
SUMMARY:CDD Board Meeting - June 2026
LOCATION:The SpringHill Suites by Marriott Tampa Suncoast Parkway located a
 t 16615 Crosspointe Run\, Land 0' Lakes\, FL 34638
URL;VALUE=URI:https://www.hillcrestpreservecdd.com/calendar/8803773/cdd-boa
 rd-meeting-june-2026
DTSTART:20260616T150000Z
DTEND:20260616T160000Z
END:VEVENT
END:VCALENDAR
