BEGIN:VCALENDAR
VERSION:2.0
PRODID:SchoolNow
CALSCALE:GREGORIAN
BEGIN:VEVENT
UID:964cbd60-c574-11f0-8ae9-0a58a9feac02
DTSTAMP:20251119T182137Z
SUMMARY:CDD Board Meeting - July 2026
LOCATION:The SpringHill Suites by Marriott Tampa Suncoast Parkway located a
 t 16615 Crosspointe Run\, Land 0' Lakes\, FL 34638
URL;VALUE=URI:https://www.hillcrestpreservecdd.com/calendar/8803775/cdd-boa
 rd-meeting-july-2026
DTSTART:20260721T150000Z
DTEND:20260721T160000Z
END:VEVENT
END:VCALENDAR
