BEGIN:VCALENDAR
VERSION:2.0
PRODID:SchoolNow
CALSCALE:GREGORIAN
BEGIN:VEVENT
UID:a17540b8-c574-11f0-ae37-0a58a9feac02
DTSTAMP:20251119T182156Z
SUMMARY:CDD Board Meeting - Aug. 2026
LOCATION:The SpringHill Suites by Marriott Tampa Suncoast Parkway located a
 t 16615 Crosspointe Run\, Land 0' Lakes\, FL 34638
URL;VALUE=URI:https://www.hillcrestpreservecdd.com/calendar/8803777/cdd-boa
 rd-meeting-aug-2026
DTSTART:20260818T150000Z
DTEND:20260818T160000Z
END:VEVENT
END:VCALENDAR
