BEGIN:VCALENDAR
VERSION:2.0
PRODID:SchoolNow
CALSCALE:GREGORIAN
BEGIN:VEVENT
UID:ade89304-c574-11f0-9408-0afff9ea838f
DTSTAMP:20251119T182217Z
SUMMARY:CDD Board Meeting - Sep. 2026
LOCATION:The SpringHill Suites by Marriott Tampa Suncoast Parkway located a
 t 16615 Crosspointe Run\, Land 0' Lakes\, FL 34638
URL;VALUE=URI:https://www.hillcrestpreservecdd.com/calendar/8803778/cdd-boa
 rd-meeting-sep-2026
DTSTART:20260915T150000Z
DTEND:20260915T160000Z
END:VEVENT
END:VCALENDAR
