BEGIN:VCALENDAR
VERSION:2.0
PRODID:SchoolNow
CALSCALE:GREGORIAN
BEGIN:VEVENT
UID:4f06ccf0-2a0c-11f1-9a11-024b1f994ab3
DTSTAMP:20260327T183951Z
SUMMARY:CDD Board Meeting - Apr. 2025
LOCATION:The SpringHill Suites by Marriott Tampa Suncoast Parkway located a
 t 16615 Crosspointe Run\, Land 0' Lakes\, FL 34638
URL;VALUE=URI:https://www.hillcrestpreservecdd.com/calendar/8950172/cdd-boa
 rd-meeting-apr-2025
DTSTART:20250415T150000Z
DTEND:20250415T160000Z
ATTACH;FILENAME=2025-04-15 Hillcrest Preserve - Agenda.pdf;FMTTYPE=applicat
 ion/pdf:https://campussuite-storage.s3.amazonaws.com/prod/1559287/6ba028fa
 -b9ed-11f0-bada-02234586cfdd/3035827/a6e31082-bf0e-11f0-8a0f-0a58a9feac02/
 file/2025-04-15 Hillcrest Preserve - Agenda.pdf
END:VEVENT
END:VCALENDAR
