BEGIN:VCALENDAR
VERSION:2.0
PRODID:SchoolNow
CALSCALE:GREGORIAN
BEGIN:VEVENT
UID:720d9d0a-2a0c-11f1-b227-0eb47fac19db
DTSTAMP:20260327T184036Z
SUMMARY:CDD Board Meeting - May 2025
LOCATION:The SpringHill Suites by Marriott Tampa Suncoast Parkway located a
 t 16615 Crosspointe Run\, Land 0' Lakes\, FL 34638
URL;VALUE=URI:https://www.hillcrestpreservecdd.com/calendar/8950173/cdd-boa
 rd-meeting-may-2025
DTSTART:20250520T150000Z
DTEND:20250520T160000Z
ATTACH;FILENAME=2025-05-20 Hillcrest Preserve - Agenda.pdf;FMTTYPE=applicat
 ion/pdf:https://campussuite-storage.s3.amazonaws.com/prod/1559287/6ba028fa
 -b9ed-11f0-bada-02234586cfdd/3035833/a6e315e6-bf0e-11f0-b27b-0a58a9feac02/
 file/2025-05-20 Hillcrest Preserve - Agenda.pdf
END:VEVENT
END:VCALENDAR
