BEGIN:VCALENDAR
VERSION:2.0
PRODID:SchoolNow
CALSCALE:GREGORIAN
BEGIN:VEVENT
UID:cdff446a-2a0c-11f1-9b3c-0afff2938fcd
DTSTAMP:20260327T184310Z
SUMMARY:CDD Board Meeting - Aug. 2025
LOCATION:The SpringHill Suites by Marriott Tampa Suncoast Parkway located a
 t 16615 Crosspointe Run\, Land 0' Lakes\, FL 34638
URL;VALUE=URI:https://www.hillcrestpreservecdd.com/calendar/8950176/cdd-boa
 rd-meeting-aug-2025
DTSTART:20250819T150000Z
DTEND:20250819T160000Z
ATTACH;FILENAME=2025-08-19 Hillcrest Preserve - Agenda.pdf;FMTTYPE=applicat
 ion/pdf:https://campussuite-storage.s3.amazonaws.com/prod/1559287/6ba028fa
 -b9ed-11f0-bada-02234586cfdd/3035830/a6e31334-bf0e-11f0-9237-0a58a9feac02/
 file/2025-08-19 Hillcrest Preserve - Agenda.pdf
END:VEVENT
END:VCALENDAR
